Workbook

Sheet tbl1
A1: السـلطة الوطنيـة الفلسـطينية | K1: Palestinian National Authority
A2: وزارة التربيــة والتعـــليم | K2: Ministry of Ed.&Higher Ed.
A3: الإدارة العـامـة للاشــراف | K3: Directorate General of Supervision
A4: والتأهيل التربوي | K4: &Educational Qualifying
A5: المعلم / ة : | B5: صلاح جبران | I5: مدرسة ذكور الياسرية الثانوية
A6: الصف: | B6: العاشر (أ) | I6: تحليل اختبار تشخيصي
B7: عدد الطلاب | C7: 24 | D7: 24 | E7: 24 | F7: 24 | G7: 24 | H7: 24 | I7: 24 | J7: 24
C8: س1فهم المقروء | D8: س2 البلاغة | E8: س3 (أ)الصرف | F8: المنصوبات(ب) | G8: (ج) المجرورات | H8: (د)علامات الإعراب | I8: س4 الإملاء | J8: س5 التعبير | K8: المجموع
B9: الاسم العلامة | C9: 10 | D9: 5 | E9: 8 | F9: 7 | G9: 3 | H9: 2 | I9: 5 | J9: 10 | K9: =SUM(C9:J9) -> 50
A10: 1 | K10: =SUM(C10:J10) -> 0
A11: 2 | K11: =SUM(C11:J11) -> 0
A12: 3 | K12: =SUM(C12:J12) -> 0
A13: 4 | K13: =SUM(C13:J13) -> 0
A14: 5 | K14: =SUM(C14:J14) -> 0
A15: 6 | K15: =SUM(C15:J15) -> 0
A16: 7 | K16: =SUM(C16:J16) -> 0
A17: 8 | K17: =SUM(C17:J17) -> 0
A18: 9 | K18: =SUM(C18:J18) -> 0
A19: 10 | K19: =SUM(C19:J19) -> 0
A20: 11 | K20: =SUM(C20:J20) -> 0
A21: 12 | K21: =SUM(C21:J21) -> 0
... A33: 24 | K33: =SUM(C33:J33) -> 0
A37: مجموع العلامات | C37: =SUM(C10:C35) -> 0 | D37: =SUM(D10:D35) -> 0 | E37: =SUM(E10:E35) -> 0 | F37: =SUM(F10:F35) -> 0 | G37: =SUM(G10:G35) -> 0 | H37: =SUM(H10:H35) -> 0 | I37: =SUM(I10:I35) -> 0 | J37: =SUM(J10:J35) -> 0 | K37: =SUM(K10:K35) -> 0
A38: النهاية العظمى | C38: =C7*C9 -> 240 | D38: =C7*D9 -> 120 | E38: =C7*E9 -> 192 | F38: =C7*F9 -> 168 | G38: =C7*G9 -> 72 | H38: =C7*H9 -> 48 | I38: =C7*I9 -> 120 | J38: =C7*J9 -> 240 | K38: =C7*K9 -> 1200
A39: معدل العلامات | C39: =C37/C38 -> 0 | D39: =D37/D38 -> 0 | E39: =E37/E38 -> 0 | F39: =F37/F38 -> 0 | G39: =G37/G38 -> 0 | H39: =H37/H38 -> 0 | I39: =I37/I38 -> 0 | J39: =J37/J38 -> 0 | K39: =K37/K38 -> 0
A40: نسبة النجاح | C40: ='tbl2'!C31/'tbl2'!C32*100 -> 0 | D40: ='tbl2'!D31/'tbl2'!D32*100 -> 0 | E40: ='tbl2'!E31/'tbl2'!E32*100 -> 0 | F40: ='tbl2'!F31/'tbl2'!F32*100 -> 0 | G40: ='tbl2'!G31/'tbl2'!G32*100 -> 0 | H40: ='tbl2'!H31/'tbl2'!H32*100 -> 0 | I40: ='tbl2'!I31/'tbl2'!I32*100 -> 0 | J40: ='tbl2'!J31/'tbl2'!J32*100 -> 0 | K40: ='tbl2'!S31/'tbl2'!S32*100 -> 0
A41: المستوى العالي | C41: ='tbl2'!C65 -> 0 | D41: ='tbl2'!D65 -> 0 | E41: ='tbl2'!E65 -> 0 | F41: ='tbl2'!F65 -> 0 | G41: ='tbl2'!G65 -> 0 | H41: ='tbl2'!H65 -> 0 | I41: ='tbl2'!I65 -> 0 | J41: ='tbl2'!J65 -> 0 | K41: ='tbl2'!S65 -> 0
A42: المستوى المتوسط | C42: =C7-('tbl2'!C65+'tbl2'!C33) -> 0 | D42: =C7-('tbl2'!D65+'tbl2'!D33) -> 0 | E42: =C7-('tbl2'!E65+'tbl2'!E33) -> 0 | F42: =C7-('tbl2'!F65+'tbl2'!F33) -> 0 | G42: =C7-('tbl2'!G65+'tbl2'!G33) -> 0 | H42: =C7-('tbl2'!H65+'tbl2'!H33) -> 0 | I42: =C7-('tbl2'!I65+'tbl2'!I33) -> 0 | J42: =C7-('tbl2'!J65+'tbl2'!J33) -> 0 | K42: =C7-('tbl2'!S65+'tbl2'!S33) -> 0
A43: المستوى المتدني | C43: ='tbl2'!C33 -> 24 | D43: ='tbl2'!D33 -> 24 | E43: ='tbl2'!E33 -> 24 | F43: ='tbl2'!F33 -> 24 | G43: ='tbl2'!G33 -> 24 | H43: ='tbl2'!H33 -> 24 | I43: ='tbl2'!I33 -> 24 | J43: ='tbl2'!J33 -> 24 | K43: ='tbl2'!S33 -> 24
A44: عدد الناجحين | C44: ='tbl2'!C31 -> 0 | D44: ='tbl2'!D31 -> 0 | E44: ='tbl2'!E31 -> 0 | F44: ='tbl2'!F31 -> 0 | G44: ='tbl2'!G31 -> 0 | H44: ='tbl2'!H31 -> 0 | I44: ='tbl2'!I31 -> 0 | J44: ='tbl2'!J31 -> 0 | K44: ='tbl2'!S31 -> 0
A45: عدد الطلاب | C45: ='tbl2'!C32 -> 24 | D45: ='tbl2'!D32 -> 24 | E45: ='tbl2'!E32 -> 24 | F45: ='tbl2'!F32 -> 24 | G45: ='tbl2'!G32 -> 24 | H45: ='tbl2'!H32 -> 24 | I45: ='tbl2'!I32 -> 24 | J45: ='tbl2'!J32 -> 24 | K45: ='tbl2'!S32 -> 24
A46: عدد الطلاب الراسبين | C46: ='tbl2'!C33 -> 24 | D46: ='tbl2'!D33 -> 24 | E46: ='tbl2'!E33 -> 24 | F46: ='tbl2'!F33 -> 24 | G46: ='tbl2'!G33 -> 24 | H46: ='tbl2'!H33 -> 24 | I46: ='tbl2'!I33 -> 24 | J46: ='tbl2'!J33 -> 24 | K46: ='tbl2'!S33 -> 24

Sheet tbl2
A2: السؤال | C2: ='tbl1'!C8 -> س1فهم المقروء | D2: ='tbl1'!D8 -> س2 البلاغة | E2: ='tbl1'!E8 -> س3 (أ)الصرف | F2: ='tbl1'!F8 -> المنصوبات(ب) | G2: ='tbl1'!G8 -> (ج) المجرورات | H2: ='tbl1'!H8 -> (د)علامات الإعراب | I2: ='tbl1'!I8 -> س4 الإملاء | J2: ='tbl1'!J8 -> س5 التعبير | K2: ='tbl1'!#REF! -> #REF! | L2: ='tbl1'!#REF! -> #REF! | M2: ='tbl1'!#REF! -> #REF! | N2: ='tbl1'!#REF! -> #REF! | O2: ='tbl1'!#REF! -> #REF! | P2: ='tbl1'!#REF! -> #REF! | Q2: ='tbl1'!#REF! -> #REF! | R2: ='tbl1'!#REF! -> #REF! | S2: ='tbl1'!K8 -> المجموع
A4: العلامة الصغرى | C4: =C5/2 -> 5 | D4: =D5/2 -> 2.5 | E4: =E5/2 -> 4 | F4: =F5/2 -> 3.5 | G4: =G5/2 -> 1.5 | H4: =H5/2 -> 1 | I4: =I5/2 -> 2.5 | J4: =J5/2 -> 5 | ... S4: =S5/2 -> 25
A5: العلامة العظمى | C5: ='tbl1'!C9 -> 10 | D5: ='tbl1'!D9 -> 5 | E5: ='tbl1'!E9 -> 8 | F5: ='tbl1'!F9 -> 7 | G5: ='tbl1'!G9 -> 3 | H5: ='tbl1'!H9 -> 2 | I5: ='tbl1'!I9 -> 5 | J5: ='tbl1'!J9 -> 10 | K5: ='tbl1'!#REF! -> #REF! | L5: ='tbl1'!#REF! -> #REF! | M5: ='tbl1'!#REF! -> #REF! | N5: ='tbl1'!#REF! -> #REF! | O5: ='tbl1'!#REF! -> #REF! | P5: ='tbl1'!#REF! -> #REF! | Q5: ='tbl1'!#REF! -> #REF! | R5: ='tbl1'!#REF! -> #REF! | S5: ='tbl1'!K9 -> 50
B6: =IF('tbl2'!A13,0,1) -> 1 | C6: =IF('tbl1'!C10>='tbl2'!C4,1,0) -> 0 | D6: =IF('tbl1'!D10>='tbl2'!D4,1,0) -> 0 | E6: =IF('tbl1'!E10>='tbl2'!E4,1,0) -> 0 | F6: =IF('tbl1'!F10>='tbl2'!F4,1,0) -> 0 | G6: =IF('tbl1'!G10>='tbl2'!G4,1,0) -> 0 | H6: =IF('tbl1'!H10>='tbl2'!H4,1,0) -> 0 | I6: =IF('tbl1'!I10>='tbl2'!I4,1,0) -> 0 | J6: =IF('tbl1'!J10>='tbl2'!J4,1,0) -> 0 | K6: =IF('tbl1'!#REF!>='tbl2'!K4,1,0) -> #REF! | L6: =IF('tbl1'!#REF!>='tbl2'!L4,1,0) -> #REF! | M6: =IF('tbl1'!#REF!>='tbl2'!M4,1,0) -> #REF! | N6: =IF('tbl1'!#REF!>='tbl2'!N4,1,0) -> #REF! | O6: =IF('tbl1'!#REF!>='tbl2'!O4,1,0) -> #REF! | P6: =IF('tbl1'!#REF!>='tbl2'!P4,1,0) -> #REF! | Q6: =IF('tbl1'!#REF!>='tbl2'!Q4,1,0) -> #REF! | R6: =IF('tbl1'!#REF!>='tbl2'!R4,1,0) -> #REF! | S6: =IF('tbl1'!K10>='tbl2'!S4,1,0) -> 0
B7: =B6+1 -> 2 | C7: =IF('tbl1'!C11>='tbl2'!C4,1,0) -> 0 | D7: =IF('tbl1'!D11>='tbl2'!D4,1,0) -> 0 | E7: =IF('tbl1'!E11>='tbl2'!E4,1,0) -> 0 | F7: =IF('tbl1'!F11>='tbl2'!F4,1,0) -> 0 | G7: =IF('tbl1'!G11>='tbl2'!G4,1,0) -> 0 | H7: =IF('tbl1'!H11>='tbl2'!H4,1,0) -> 0 | I7: =IF('tbl1'!I11>='tbl2'!I4,1,0) -> 0 | J7: =IF('tbl1'!J11>='tbl2'!J4,1,0) -> 0 | K7: =IF('tbl1'!#REF!>='tbl2'!K4,1,0) -> #REF! | L7: =IF('tbl1'!#REF!>='tbl2'!L4,1,0) -> #REF! | M7: =IF('tbl1'!#REF!>='tbl2'!M4,1,0) -> #REF! | N7: =IF('tbl1'!#REF!>='tbl2'!N4,1,0) -> #REF! | O7: =IF('tbl1'!#REF!>='tbl2'!O4,1,0) -> #REF! | P7: =IF('tbl1'!#REF!>='tbl2'!P4,1,0) -> #REF! | Q7: =IF('tbl1'!#REF!>='tbl2'!Q4,1,0) -> #REF! | R7: =IF('tbl1'!#REF!>='tbl2'!R4,1,0) -> #REF! | S7: =IF('tbl1'!K11>='tbl2'!S4,1,0) -> 0
B8: =B7+1 -> 3 | C8: =IF('tbl1'!C12>='tbl2'!C4,1,0) -> 0 | D8: =IF('tbl1'!D12>='tbl2'!D4,1,0) -> 0 | E8: =IF('tbl1'!E12>='tbl2'!E4,1,0) -> 0 | F8: =IF('tbl1'!F12>='tbl2'!F4,1,0) -> 0 | G8: =IF('tbl1'!G12>='tbl2'!G4,1,0) -> 0 | H8: =IF('tbl1'!H12>='tbl2'!H4,1,0) -> 0 | I8: =IF('tbl1'!I12>='tbl2'!I4,1,0) -> 0 | J8: =IF('tbl1'!J12>='tbl2'!J4,1,0) -> 0 | K8: =IF('tbl1'!#REF!>='tbl2'!K4,1,0) -> #REF! | L8: =IF('tbl1'!#REF!>='tbl2'!L4,1,0) -> #REF! | M8: =IF('tbl1'!#REF!>='tbl2'!M4,1,0) -> #REF! | N8: =IF('tbl1'!#REF!>='tbl2'!N4,1,0) -> #REF! | O8: =IF('tbl1'!#REF!>='tbl2'!O4,1,0) -> #REF! | P8: =IF('tbl1'!#REF!>='tbl2'!P4,1,0) -> #REF! | Q8: =IF('tbl1'!#REF!>='tbl2'!Q4,1,0) -> #REF! | R8: =IF('tbl1'!#REF!>='tbl2'!R4,1,0) -> #REF! | S8: =IF('tbl1'!K12>='tbl2'!S4,1,0) -> 0
B9: =B8+1 -> 4 | C9: =IF('tbl1'!C13>='tbl2'!C4,1,0) -> 0 | D9: =IF('tbl1'!D13>='tbl2'!D4,1,0) -> 0 | E9: =IF('tbl1'!E13>='tbl2'!E4,1,0) -> 0 | F9: =IF('tbl1'!F13>='tbl2'!F4,1,0) -> 0 | G9: =IF('tbl1'!G13>='tbl2'!G4,1,0) -> 0 | H9: =IF('tbl1'!H13>='tbl2'!H4,1,0) -> 0 | I9: =IF('tbl1'!I13>='tbl2'!I4,1,0) -> 0 | J9: =IF('tbl1'!J13>='tbl2'!J4,1,0) -> 0 | K9: =IF('tbl1'!#REF!>='tbl2'!K4,1,0) -> #REF! | L9: =IF('tbl1'!#REF!>='tbl2'!L4,1,0) -> #REF! | M9: =IF('tbl1'!#REF!>='tbl2'!M4,1,0) -> #REF! | N9: =IF('tbl1'!#REF!>='tbl2'!N4,1,0) -> #REF! | O9: =IF('tbl1'!#REF!>='tbl2'!O4,1,0) -> #REF! | P9: =IF('tbl1'!#REF!>='tbl2'!P4,1,0) -> #REF! | Q9: =IF('tbl1'!#REF!>='tbl2'!Q4,1,0) -> #REF! | R9: =IF('tbl1'!#REF!>='tbl2'!R4,1,0) -> #REF! | S9: =IF('tbl1'!K13>='tbl2'!S4,1,0) -> 0
B10: =B9+1 -> 5 | C10: =IF('tbl1'!C14>='tbl2'!C4,1,0) -> 0 | D10: =IF('tbl1'!D14>='tbl2'!D4,1,0) -> 0 | E10: =IF('tbl1'!E14>='tbl2'!E4,1,0) -> 0 | F10: =IF('tbl1'!F14>='tbl2'!F4,1,0) -> 0 | G10: =IF('tbl1'!G14>='tbl2'!G4,1,0) -> 0 | H10: =IF('tbl1'!H14>='tbl2'!H4,1,0) -> 0 | I10: =IF('tbl1'!I14>='tbl2'!I4,1,0) -> 0 | J10: =IF('tbl1'!J14>='tbl2'!J4,1,0) -> 0 | K10: =IF('tbl1'!#REF!>='tbl2'!K4,1,0) -> #REF! | L10: =IF('tbl1'!#REF!>='tbl2'!L4,1,0) -> #REF! | M10: =IF('tbl1'!#REF!>='tbl2'!M4,1,0) -> #REF! | N10: =IF('tbl1'!#REF!>='tbl2'!N4,1,0) -> #REF! | O10: =IF('tbl1'!#REF!>='tbl2'!O4,1,0) -> #REF! | P10: =IF('tbl1'!#REF!>='tbl2'!P4,1,0) -> #REF! | Q10: =IF('tbl1'!#REF!>='tbl2'!Q4,1,0) -> #REF! | R10: =IF('tbl1'!#REF!>='tbl2'!R4,1,0) -> #REF! | S10: =IF('tbl1'!K14>='tbl2'!S4,1,0) -> 0
B11: =B10+1 -> 6 | C11: =IF('tbl1'!C15>='tbl2'!C4,1,0) -> 0 | D11: =IF('tbl1'!D15>='tbl2'!D4,1,0) -> 0 | E11: =IF('tbl1'!E15>='tbl2'!E4,1,0) -> 0 | F11: =IF('tbl1'!F15>='tbl2'!F4,1,0) -> 0 | G11: =IF('tbl1'!G15>='tbl2'!G4,1,0) -> 0 | H11: =IF('tbl1'!H15>='tbl2'!H4,1,0) -> 0 | I11: =IF('tbl1'!I15>='tbl2'!I4,1,0) -> 0 | J11: =IF('tbl1'!J15>='tbl2'!J4,1,0) -> 0 | K11: =IF('tbl1'!#REF!>='tbl2'!K4,1,0) -> #REF! | L11: =IF('tbl1'!#REF!>='tbl2'!L4,1,0) -> #REF! | M11: =IF('tbl1'!#REF!>='tbl2'!M4,1,0) -> #REF! | N11: =IF('tbl1'!#REF!>='tbl2'!N4,1,0) -> #REF! | O11: =IF('tbl1'!#REF!>='tbl2'!O4,1,0) -> #REF! | P11: =IF('tbl1'!#REF!>='tbl2'!P4,1,0) -> #REF! | Q11: =IF('tbl1'!#REF!>='tbl2'!Q4,1,0) -> #REF! | R11: =IF('tbl1'!#REF!>='tbl2'!R4,1,0) -> #REF! | S11: =IF('tbl1'!K15>='tbl2'!S4,1,0) -> 0
B12: =B11+1 -> 7 | C12: =IF('tbl1'!C16>='tbl2'!C4,1,0) -> 0 | D12: =IF('tbl1'!D16>='tbl2'!D4,1,0) -> 0 | E12: =IF('tbl1'!E16>='tbl2'!E4,1,0) -> 0 | F12: =IF('tbl1'!F16>='tbl2'!F4,1,0) -> 0 | G12: =IF('tbl1'!G16>='tbl2'!G4,1,0) -> 0 | H12: =IF('tbl1'!H16>='tbl2'!H4,1,0) -> 0 | I12: =IF('tbl1'!I16>='tbl2'!I4,1,0) -> 0 | J12: =IF('tbl1'!J16>='tbl2'!J4,1,0) -> 0 | K12: =IF('tbl1'!#REF!>='tbl2'!K4,1,0) -> #REF! | L12: =IF('tbl1'!#REF!>='tbl2'!L4,1,0) -> #REF! | M12: =IF('tbl1'!#REF!>='tbl2'!M4,1,0) -> #REF! | N12: =IF('tbl1'!#REF!>='tbl2'!N4,1,0) -> #REF! | O12: =IF('tbl1'!#REF!>='tbl2'!O4,1,0) -> #REF! | P12: =IF('tbl1'!#REF!>='tbl2'!P4,1,0) -> #REF! | Q12: =IF('tbl1'!#REF!>='tbl2'!Q4,1,0) -> #REF! | R12: =IF('tbl1'!#REF!>='tbl2'!R4,1,0) -> #REF! | S12: =IF('tbl1'!K16>='tbl2'!S4,1,0) -> 0
B13: =B12+1 -> 8 | C13: =IF('tbl1'!C17>='tbl2'!C4,1,0) -> 0 | D13: =IF('tbl1'!D17>='tbl2'!D4,1,0) -> 0 | E13: =IF('tbl1'!E17>='tbl2'!E4,1,0) -> 0 | F13: =IF('tbl1'!F17>='tbl2'!F4,1,0) -> 0 | G13: =IF('tbl1'!G17>='tbl2'!G4,1,0) -> 0 | H13: =IF('tbl1'!H17>='tbl2'!H4,1,0) -> 0 | I13: =IF('tbl1'!I17>='tbl2'!I4,1,0) -> 0 | J13: =IF('tbl1'!J17>='tbl2'!J4,1,0) -> 0 | K13: =IF('tbl1'!#REF!>='tbl2'!K4,1,0) -> #REF! | L13: =IF('tbl1'!#REF!>='tbl2'!L4,1,0) -> #REF! | M13: =IF('tbl1'!#REF!>='tbl2'!M4,1,0) -> #REF! | N13: =IF('tbl1'!#REF!>='tbl2'!N4,1,0) -> #REF! | O13: =IF('tbl1'!#REF!>='tbl2'!O4,1,0) -> #REF! | P13: =IF('tbl1'!#REF!>='tbl2'!P4,1,0) -> #REF! | Q13: =IF('tbl1'!#REF!>='tbl2'!Q4,1,0) -> #REF! | R13: =IF('tbl1'!#REF!>='tbl2'!R4,1,0) -> #REF! | S13: =IF('tbl1'!K17>='tbl2'!S4,1,0) -> 0
B14: =B13+1 -> 9 | C14: =IF('tbl1'!C18>='tbl2'!C4,1,0) -> 0 | D14: =IF('tbl1'!D18>='tbl2'!D4,1,0) -> 0 | E14: =IF('tbl1'!E18>='tbl2'!E4,1,0) -> 0 | F14: =IF('tbl1'!F18>='tbl2'!F4,1,0) -> 0 | G14: =IF('tbl1'!G18>='tbl2'!G4,1,0) -> 0 | H14: =IF('tbl1'!H18>='tbl2'!H4,1,0) -> 0 | I14: =IF('tbl1'!I18>='tbl2'!I4,1,0) -> 0 | J14: =IF('tbl1'!J18>='tbl2'!J4,1,0) -> 0 | K14: =IF('tbl1'!#REF!>='tbl2'!K4,1,0) -> #REF! | L14: =IF('tbl1'!#REF!>='tbl2'!L4,1,0) -> #REF! | M14: =IF('tbl1'!#REF!>='tbl2'!M4,1,0) -> #REF! | N14: =IF('tbl1'!#REF!>='tbl2'!N4,1,0) -> #REF! | O14: =IF('tbl1'!#REF!>='tbl2'!O4,1,0) -> #REF! | P14: =IF('tbl1'!#REF!>='tbl2'!P4,1,0) -> #REF! | Q14: =IF('tbl1'!#REF!>='tbl2'!Q4,1,0) -> #REF! | R14: =IF('tbl1'!#REF!>='tbl2'!R4,1,0) -> #REF! | S14: =IF('tbl1'!K18>='tbl2'!S4,1,0) -> 0
B15: =B14+1 -> 10 | C15: =IF('tbl1'!C19>='tbl2'!C4,1,0) -> 0 | D15: =IF('tbl1'!D19>='tbl2'!D4,1,0) -> 0 | E15: =IF('tbl1'!E19>='tbl2'!E4,1,0) -> 0 | F15: =IF('tbl1'!F19>='tbl2'!F4,1,0) -> 0 | G15: =IF('tbl1'!G19>='tbl2'!G4,1,0) -> 0 | H15: =IF('tbl1'!H19>='tbl2'!H4,1,0) -> 0 | I15: =IF('tbl1'!I19>='tbl2'!I4,1,0) -> 0 | J15: =IF('tbl1'!J19>='tbl2'!J4,1,0) -> 0 | K15: =IF('tbl1'!#REF!>='tbl2'!K4,1,0) -> #REF! | L15: =IF('tbl1'!#REF!>='tbl2'!L4,1,0) -> #REF! | M15: =IF('tbl1'!#REF!>='tbl2'!M4,1,0) -> #REF! | N15: =IF('tbl1'!#REF!>='tbl2'!N4,1,0) -> #REF! | O15: =IF('tbl1'!#REF!>='tbl2'!O4,1,0) -> #REF! | P15: =IF('tbl1'!#REF!>='tbl2'!P4,1,0) -> #REF! | Q15: =IF('tbl1'!#REF!>='tbl2'!Q4,1,0) -> #REF! | R15: =IF('tbl1'!#REF!>='tbl2'!R4,1,0) -> #REF! | S15: =IF('tbl1'!K19>='tbl2'!S4,1,0) -> 0
B16: =B15+1 -> 11 | C16: =IF('tbl1'!C20>='tbl2'!C4,1,0) -> 0 | D16: =IF('tbl1'!D20>='tbl2'!D4,1,0) -> 0 | E16: =IF('tbl1'!E20>='tbl2'!E4,1,0) -> 0 | F16: =IF('tbl1'!F20>='tbl2'!F4,1,0) -> 0 | G16: =IF('tbl1'!G20>='tbl2'!G4,1,0) -> 0 | H16: =IF('tbl1'!H20>='tbl2'!H4,1,0) -> 0 | I16: =IF('tbl1'!I20>='tbl2'!I4,1,0) -> 0 | J16: =IF('tbl1'!J20>='tbl2'!J4,1,0) -> 0 | K16: =IF('tbl1'!#REF!>='tbl2'!K4,1,0) -> #REF! | L16: =IF('tbl1'!#REF!>='tbl2'!L4,1,0) -> #REF! | M16: =IF('tbl1'!#REF!>='tbl2'!M4,1,0) -> #REF! | N16: =IF('tbl1'!#REF!>='tbl2'!N4,1,0) -> #REF! | O16: =IF('tbl1'!#REF!>='tbl2'!O4,1,0) -> #REF! | P16: =IF('tbl1'!#REF!>='tbl2'!P4,1,0) -> #REF! | Q16: =IF('tbl1'!#REF!>='tbl2'!Q4,1,0) -> #REF! | R16: =IF('tbl1'!#REF!>='tbl2'!R4,1,0) -> #REF! | S16: =IF('tbl1'!K20>='tbl2'!S4,1,0) -> 0
B17: =B16+1 -> 12 | C17: =IF('tbl1'!C21>='tbl2'!C4,1,0) -> 0 | D17: =IF('tbl1'!D21>='tbl2'!D4,1,0) -> 0 | E17: =IF('tbl1'!E21>='tbl2'!E4,1,0) -> 0 | F17: =IF('tbl1'!F21>='tbl2'!F4,1,0) -> 0 | G17: =IF('tbl1'!G21>='tbl2'!G4,1,0) -> 0 | H17: =IF('tbl1'!H21>='tbl2'!H4,1,0) -> 0 | I17: =IF('tbl1'!I21>='tbl2'!I4,1,0) -> 0 | J17: =IF('tbl1'!J21>='tbl2'!J4,1,0) -> 0 | K17: =IF('tbl1'!#REF!>='tbl2'!K4,1,0) -> #REF! | L17: =IF('tbl1'!#REF!>='tbl2'!L4,1,0) -> #REF! | M17: =IF('tbl1'!#REF!>='tbl2'!M4,1,0) -> #REF! | N17: =IF('tbl1'!#REF!>='tbl2'!N4,1,0) -> #REF! | O17: =IF('tbl1'!#REF!>='tbl2'!O4,1,0) -> #REF! | P17: =IF('tbl1'!#REF!>='tbl2'!P4,1,0) -> #REF! | Q17: =IF('tbl1'!#REF!>='tbl2'!Q4,1,0) -> #REF! | R17: =IF('tbl1'!#REF!>='tbl2'!R4,1,0) -> #REF! | S17: =IF('tbl1'!K21>='tbl2'!S4,1,0) -> 0
B18: =B17+1 -> 13 | C18: =IF('tbl1'!C22>='tbl2'!C4,1,0) -> 0 | D18: =IF('tbl1'!D22>='tbl2'!D4,1,0) -> 0 | E18: =IF('tbl1'!E22>='tbl2'!E4,1,0) -> 0 | F18: =IF('tbl1'!F22>='tbl2'!F4,1,0) -> 0 | G18: =IF('tbl1'!G22>='tbl2'!G4,1,0) -> 0 | H18: =IF('tbl1'!H22>='tbl2'!H4,1,0) -> 0 | I18: =IF('tbl1'!I22>='tbl2'!I4,1,0) -> 0 | J18: =IF('tbl1'!J22>='tbl2'!J4,1,0) -> 0 | K18: =IF('tbl1'!#REF!>='tbl2'!K4,1,0) -> #REF! | L18: =IF('tbl1'!#REF!>='tbl2'!L4,1,0) -> #REF! | M18: =IF('tbl1'!#REF!>='tbl2'!M4,1,0) -> #REF! | N18: =IF('tbl1'!#REF!>='tbl2'!N4,1,0) -> #REF! | O18: =IF('tbl1'!#REF!>='tbl2'!O4,1,0) -> #REF! | P18: =IF('tbl1'!#REF!>='tbl2'!P4,1,0) -> #REF! | Q18: =IF('tbl1'!#REF!>='tbl2'!Q4,1,0) -> #REF! | R18: =IF('tbl1'!#REF!>='tbl2'!R4,1,0) -> #REF! | S18: =IF('tbl1'!K22>='tbl2'!S4,1,0) -> 0
B19: =B18+1 -> 14 | C19: =IF('tbl1'!C23>='tbl2'!C4,1,0) -> 0 | D19: =IF('tbl1'!D23>='tbl2'!D4,1,0) -> 0 | E19: =IF('tbl1'!E23>='tbl2'!E4,1,0) -> 0 | F19: =IF('tbl1'!F23>='tbl2'!F4,1,0) -> 0 | G19: =IF('tbl1'!G23>='tbl2'!G4,1,0) -> 0 | H19: =IF('tbl1'!H23>='tbl2'!H4,1,0) -> 0 | I19: =IF('tbl1'!I23>='tbl2'!I4,1,0) -> 0 | J19: =IF('tbl1'!J23>='tbl2'!J4,1,0) -> 0 | K19: =IF('tbl1'!#REF!>='tbl2'!K4,1,0) -> #REF! | L19: =IF('tbl1'!#REF!>='tbl2'!L4,1,0) -> #REF! | M19: =IF('tbl1'!#REF!>='tbl2'!M4,1,0) -> #REF! | N19: =IF('tbl1'!#REF!>='tbl2'!N4,1,0) -> #REF! | O19: =IF('tbl1'!#REF!>='tbl2'!O4,1,0) -> #REF! | P19: =IF('tbl1'!#REF!>='tbl2'!P4,1,0) -> #REF! | Q19: =IF('tbl1'!#REF!>='tbl2'!Q4,1,0) -> #REF! | R19: =IF('tbl1'!#REF!>='tbl2'!R4,1,0) -> #REF! | S19: =IF('tbl1'!K23>='tbl2'!S4,1,0) -> 0
B20: =B19+1 -> 15 | C20: =IF('tbl1'!C24>='tbl2'!C4,1,0) -> 0 | D20: =IF('tbl1'!D24>='tbl2'!D4,1,0) -> 0 | E20: =IF('tbl1'!E24>='tbl2'!E4,1,0) -> 0 | F20: =IF('tbl1'!F24>='tbl2'!F4,1,0) -> 0 | G20: =IF('tbl1'!G24>='tbl2'!G4,1,0) -> 0 | H20: =IF('tbl1'!H24>='tbl2'!H4,1,0) -> 0 | I20: =IF('tbl1'!I24>='tbl2'!I4,1,0) -> 0 | J20: =IF('tbl1'!J24>='tbl2'!J4,1,0) -> 0 | K20: =IF('tbl1'!#REF!>='tbl2'!K4,1,0) -> #REF! | L20: =IF('tbl1'!#REF!>='tbl2'!L4,1,0) -> #REF! | M20: =IF('tbl1'!#REF!>='tbl2'!M4,1,0) -> #REF! | N20: =IF('tbl1'!#REF!>='tbl2'!N4,1,0) -> #REF! | O20: =IF('tbl1'!#REF!>='tbl2'!O4,1,0) -> #REF! | P20: =IF('tbl1'!#REF!>='tbl2'!P4,1,0) -> #REF! | Q20: =IF('tbl1'!#REF!>='tbl2'!Q4,1,0) -> #REF! | R20: =IF('tbl1'!#REF!>='tbl2'!R4,1,0) -> #REF! | S20: =IF('tbl1'!K24>='tbl2'!S4,1,0) -> 0
B21: =B20+1 -> 16 | C21: =IF('tbl1'!C25>='tbl2'!C4,1,0) -> 0 | D21: =IF('tbl1'!D25>='tbl2'!D4,1,0) -> 0 | E21: =IF('tbl1'!E25>='tbl2'!E4,1,0) -> 0 | F21: =IF('tbl1'!F25>='tbl2'!F4,1,0) -> 0 | G21: =IF('tbl1'!G25>='tbl2'!G4,1,0) -> 0 | H21: =IF('tbl1'!H25>='tbl2'!H4,1,0) -> 0 | I21: =IF('tbl1'!I25>='tbl2'!I4,1,0) -> 0 | J21: =IF('tbl1'!J25>='tbl2'!J4,1,0) -> 0 | K21: =IF('tbl1'!#REF!>='tbl2'!K4,1,0) -> #REF! | L21: =IF('tbl1'!#REF!>='tbl2'!L4,1,0) -> #REF! | M21: =IF('tbl1'!#REF!>='tbl2'!M4,1,0) -> #REF! | N21: =IF('tbl1'!#REF!>='tbl2'!N4,1,0) -> #REF! | O21: =IF('tbl1'!#REF!>='tbl2'!O4,1,0) -> #REF! | P21: =IF('tbl1'!#REF!>='tbl2'!P4,1,0) -> #REF! | Q21: =IF('tbl1'!#REF!>='tbl2'!Q4,1,0) -> #REF! | R21: =IF('tbl1'!#REF!>='tbl2'!R4,1,0) -> #REF! | S21: =IF('tbl1'!K25>='tbl2'!S4,1,0) -> 0
B22: =B21+1 -> 17 | C22: =IF('tbl1'!C26>='tbl2'!C4,1,0) -> 0 | D22: =IF('tbl1'!D26>='tbl2'!D4,1,0) -> 0 | E22: =IF('tbl1'!E26>='tbl2'!E4,1,0) -> 0 | F22: =IF('tbl1'!F26>='tbl2'!F4,1,0) -> 0 | G22: =IF('tbl1'!G26>='tbl2'!G4,1,0) -> 0 | H22: =IF('tbl1'!H26>='tbl2'!H4,1,0) -> 0 | I22: =IF('tbl1'!I26>='tbl2'!I4,1,0) -> 0 | J22: =IF('tbl1'!J26>='tbl2'!J4,1,0) -> 0 | K22: =IF('tbl1'!#REF!>='tbl2'!K4,1,0) -> #REF! | L22: =IF('tbl1'!#REF!>='tbl2'!L4,1,0) -> #REF! | M22: =IF('tbl1'!#REF!>='tbl2'!M4,1,0) -> #REF! | N22: =IF('tbl1'!#REF!>='tbl2'!N4,1,0) -> #REF! | O22: =IF('tbl1'!#REF!>='tbl2'!O4,1,0) -> #REF! | P22: =IF('tbl1'!#REF!>='tbl2'!P4,1,0) -> #REF! | Q22: =IF('tbl1'!#REF!>='tbl2'!Q4,1,0) -> #REF! | R22: =IF('tbl1'!#REF!>='tbl2'!R4,1,0) -> #REF! | S22: =IF('tbl1'!K26>='tbl2'!S4,1,0) -> 0
B23: =B22+1 -> 18 | C23: =IF('tbl1'!C27>='tbl2'!C4,1,0) -> 0 | D23: =IF('tbl1'!D27>='tbl2'!D4,1,0) -> 0 | E23: =IF('tbl1'!E27>='tbl2'!E4,1,0) -> 0 | F23: =IF('tbl1'!F27>='tbl2'!F4,1,0) -> 0 | G23: =IF('tbl1'!G27>='tbl2'!G4,1,0) -> 0 | H23: =IF('tbl1'!H27>='tbl2'!H4,1,0) -> 0 | I23: =IF('tbl1'!I27>='tbl2'!I4,1,0) -> 0 | J23: =IF('tbl1'!J27>='tbl2'!J4,1,0) -> 0 | K23: =IF('tbl1'!#REF!>='tbl2'!K4,1,0) -> #REF! | L23: =IF('tbl1'!#REF!>='tbl2'!L4,1,0) -> #REF! | M23: =IF('tbl1'!#REF!>='tbl2'!M4,1,0) -> #REF! | N23: =IF('tbl1'!#REF!>='tbl2'!N4,1,0) -> #REF! | O23: =IF('tbl1'!#REF!>='tbl2'!O4,1,0) -> #REF! | P23: =IF('tbl1'!#REF!>='tbl2'!P4,1,0) -> #REF! | Q23: =IF('tbl1'!#REF!>='tbl2'!Q4,1,0) -> #REF! | R23: =IF('tbl1'!#REF!>='tbl2'!R4,1,0) -> #REF! | S23: =IF('tbl1'!K27>='tbl2'!S4,1,0) -> 0
B24: =B23+1 -> 19 | C24: =IF('tbl1'!C28>='tbl2'!C4,1,0) -> 0 | D24: =IF('tbl1'!D28>='tbl2'!D4,1,0) -> 0 | E24: =IF('tbl1'!E28>='tbl2'!E4,1,0) -> 0 | F24: =IF('tbl1'!F28>='tbl2'!F4,1,0) -> 0 | G24: =IF('tbl1'!G28>='tbl2'!G4,1,0) -> 0 | H24: =IF('tbl1'!H28>='tbl2'!H4,1,0) -> 0 | I24: =IF('tbl1'!I28>='tbl2'!I4,1,0) -> 0 | J24: =IF('tbl1'!J28>='tbl2'!J4,1,0) -> 0 | K24: =IF('tbl1'!#REF!>='tbl2'!K4,1,0) -> #REF! | L24: =IF('tbl1'!#REF!>='tbl2'!L4,1,0) -> #REF! | M24: =IF('tbl1'!#REF!>='tbl2'!M4,1,0) -> #REF! | N24: =IF('tbl1'!#REF!>='tbl2'!N4,1,0) -> #REF! | O24: =IF('tbl1'!#REF!>='tbl2'!O4,1,0) -> #REF! | P24: =IF('tbl1'!#REF!>='tbl2'!P4,1,0) -> #REF! | Q24: =IF('tbl1'!#REF!>='tbl2'!Q4,1,0) -> #REF! | R24: =IF('tbl1'!#REF!>='tbl2'!R4,1,0) -> #REF! | S24: =IF('tbl1'!K28>='tbl2'!S4,1,0) -> 0
B25: =B24+1 -> 20 | C25: =IF('tbl1'!C29>='tbl2'!C4,1,0) -> 0 | D25: =IF('tbl1'!D29>='tbl2'!D4,1,0) -> 0 | E25: =IF('tbl1'!E29>='tbl2'!E4,1,0) -> 0 | F25: =IF('tbl1'!F29>='tbl2'!F4,1,0) -> 0 | G25: =IF('tbl1'!G29>='tbl2'!G4,1,0) -> 0 | H25: =IF('tbl1'!H29>='tbl2'!H4,1,0) -> 0 | I25: =IF('tbl1'!I29>='tbl2'!I4,1,0) -> 0 | J25: =IF('tbl1'!J29>='tbl2'!J4,1,0) -> 0 | K25: =IF('tbl1'!#REF!>='tbl2'!K4,1,0) -> #REF! | L25: =IF('tbl1'!#REF!>='tbl2'!L4,1,0) -> #REF! | M25: =IF('tbl1'!#REF!>='tbl2'!M4,1,0) -> #REF! | N25: =IF('tbl1'!#REF!>='tbl2'!N4,1,0) -> #REF! | O25: =IF('tbl1'!#REF!>='tbl2'!O4,1,0) -> #REF! | P25: =IF('tbl1'!#REF!>='tbl2'!P4,1,0) -> #REF! | Q25: =IF('tbl1'!#REF!>='tbl2'!Q4,1,0) -> #REF! | R25: =IF('tbl1'!#REF!>='tbl2'!R4,1,0) -> #REF! | S25: =IF('tbl1'!K29>='tbl2'!S4,1,0) -> 0
B26: =B25+1 -> 21 | C26: =IF('tbl1'!C30>='tbl2'!C4,1,0) -> 0 | D26: =IF('tbl1'!D30>='tbl2'!D4,1,0) -> 0 | E26: =IF('tbl1'!E30>='tbl2'!E4,1,0) -> 0 | F26: =IF('tbl1'!F30>='tbl2'!F4,1,0) -> 0 | G26: =IF('tbl1'!G30>='tbl2'!G4,1,0) -> 0 | H26: =IF('tbl1'!H30>='tbl2'!H4,1,0) -> 0 | I26: =IF('tbl1'!I30>='tbl2'!I4,1,0) -> 0 | J26: =IF('tbl1'!J30>='tbl2'!J4,1,0) -> 0 | K26: =IF('tbl1'!#REF!>='tbl2'!K4,1,0) -> #REF! | L26: =IF('tbl1'!#REF!>='tbl2'!L4,1,0) -> #REF! | M26: =IF('tbl1'!#REF!>='tbl2'!M4,1,0) -> #REF! | N26: =IF('tbl1'!#REF!>='tbl2'!N4,1,0) -> #REF! | O26: =IF('tbl1'!#REF!>='tbl2'!O4,1,0) -> #REF! | P26: =IF('tbl1'!#REF!>='tbl2'!P4,1,0) -> #REF! | Q26: =IF('tbl1'!#REF!>='tbl2'!Q4,1,0) -> #REF! | R26: =IF('tbl1'!#REF!>='tbl2'!R4,1,0) -> #REF! | S26: =IF('tbl1'!K30>='tbl2'!S4,1,0) -> 0
B27: =B26+1 -> 22 | C27: =IF('tbl1'!C31>='tbl2'!C4,1,0) -> 0 | D27: =IF('tbl1'!D31>='tbl2'!D4,1,0) -> 0 | E27: =IF('tbl1'!E31>='tbl2'!E4,1,0) -> 0 | F27: =IF('tbl1'!F31>='tbl2'!F4,1,0) -> 0 | G27: =IF('tbl1'!G31>='tbl2'!G4,1,0) -> 0 | H27: =IF('tbl1'!H31>='tbl2'!H4,1,0) -> 0 | I27: =IF('tbl1'!I31>='tbl2'!I4,1,0) -> 0 | J27: =IF('tbl1'!J31>='tbl2'!J4,1,0) -> 0 | K27: =IF('tbl1'!#REF!>='tbl2'!K4,1,0) -> #REF! | L27: =IF('tbl1'!#REF!>='tbl2'!L4,1,0) -> #REF! | M27: =IF('tbl1'!#REF!>='tbl2'!M4,1,0) -> #REF! | N27: =IF('tbl1'!#REF!>='tbl2'!N4,1,0) -> #REF! | O27: =IF('tbl1'!#REF!>='tbl2'!O4,1,0) -> #REF! | P27: =IF('tbl1'!#REF!>='tbl2'!P4,1,0) -> #REF! | Q27: =IF('tbl1'!#REF!>='tbl2'!Q4,1,0) -> #REF! | R27: =IF('tbl1'!#REF!>='tbl2'!R4,1,0) -> #REF! | S27: =IF('tbl1'!K31>='tbl2'!S4,1,0) -> 0
B28: =B27+1 -> 23 | C28: =IF('tbl1'!C32>='tbl2'!C4,1,0) -> 0 | D28: =IF('tbl1'!D32>='tbl2'!D4,1,0) -> 0 | E28: =IF('tbl1'!E32>='tbl2'!E4,1,0) -> 0 | F28: =IF('tbl1'!F32>='tbl2'!F4,1,0) -> 0 | G28: =IF('tbl1'!G32>='tbl2'!G4,1,0) -> 0 | H28: =IF('tbl1'!H32>='tbl2'!H4,1,0) -> 0 | I28: =IF('tbl1'!I32>='tbl2'!I4,1,0) -> 0 | J28: =IF('tbl1'!J32>='tbl2'!J4,1,0) -> 0 | K28: =IF('tbl1'!#REF!>='tbl2'!K4,1,0) -> #REF! | L28: =IF('tbl1'!#REF!>='tbl2'!L4,1,0) -> #REF! | M28: =IF('tbl1'!#REF!>='tbl2'!M4,1,0) -> #REF! | N28: =IF('tbl1'!#REF!>='tbl2'!N4,1,0) -> #REF! | O28: =IF('tbl1'!#REF!>='tbl2'!O4,1,0) -> #REF! | P28: =IF('tbl1'!#REF!>='tbl2'!P4,1,0) -> #REF! | Q28: =IF('tbl1'!#REF!>='tbl2'!Q4,1,0) -> #REF! | R28: =IF('tbl1'!#REF!>='tbl2'!R4,1,0) -> #REF! | S28: =IF('tbl1'!K32>='tbl2'!S4,1,0) -> 0
B29: =B28+1 -> 24 | C29: =IF('tbl1'!C33>='tbl2'!C4,1,0) -> 0 | D29: =IF('tbl1'!D33>='tbl2'!D4,1,0) -> 0 | E29: =IF('tbl1'!E33>='tbl2'!E4,1,0) -> 0 | F29: =IF('tbl1'!F33>='tbl2'!F4,1,0) -> 0 | G29: =IF('tbl1'!G33>='tbl2'!G4,1,0) -> 0 | H29: =IF('tbl1'!H33>='tbl2'!H4,1,0) -> 0 | I29: =IF('tbl1'!I33>='tbl2'!I4,1,0) -> 0 | J29: =IF('tbl1'!J33>='tbl2'!J4,1,0) -> 0 | K29: =IF('tbl1'!#REF!>='tbl2'!K4,1,0) -> #REF! | L29: =IF('tbl1'!#REF!>='tbl2'!L4,1,0) -> #REF! | M29: =IF('tbl1'!#REF!>='tbl2'!M4,1,0) -> #REF! | N29: =IF('tbl1'!#REF!>='tbl2'!N4,1,0) -> #REF! | O29: =IF('tbl1'!#REF!>='tbl2'!O4,1,0) -> #REF! | P29: =IF('tbl1'!#REF!>='tbl2'!P4,1,0) -> #REF! | Q29: =IF('tbl1'!#REF!>='tbl2'!Q4,1,0) -> #REF! | R29: =IF('tbl1'!#REF!>='tbl2'!R4,1,0) -> #REF! | S29: =IF('tbl1'!K33>='tbl2'!S4,1,0) -> 0
B30: =B29+1 -> 25 | C30: =IF('tbl1'!C34>='tbl2'!C4,1,0) -> 0 | D30: =IF('tbl1'!D34>='tbl2'!D4,1,0) -> 0 | E30: =IF('tbl1'!E34>='tbl2'!E4,1,0) -> 0 | F30: =IF('tbl1'!F34>='tbl2'!F4,1,0) -> 0 | G30: =IF('tbl1'!G34>='tbl2'!G4,1,0) -> 0 | H30: =IF('tbl1'!H34>='tbl2'!H4,1,0) -> 0 | I30: =IF('tbl1'!I34>='tbl2'!I4,1,0) -> 0 | J30: =IF('tbl1'!J34>='tbl2'!J4,1,0) -> 0 | K30: =IF('tbl1'!#REF!>='tbl2'!K4,1,0) -> #REF! | L30: =IF('tbl1'!#REF!>='tbl2'!L4,1,0) -> #REF! | M30: =IF('tbl1'!#REF!>='tbl2'!M4,1,0) -> #REF! | N30: =IF('tbl1'!#REF!>='tbl2'!N4,1,0) -> #REF! | O30: =IF('tbl1'!#REF!>='tbl2'!O4,1,0) -> #REF! | P30: =IF('tbl1'!#REF!>='tbl2'!P4,1,0) -> #REF! | Q30: =IF('tbl1'!#REF!>='tbl2'!Q4,1,0) -> #REF! | R30: =IF('tbl1'!#REF!>='tbl2'!R4,1,0) -> #REF! | S30: =IF('tbl1'!K34>='tbl2'!S4,1,0) -> 0
A31: عدد الناجحين | C31: =SUM(C6:C30) -> 0 | D31: =SUM(D6:D30) -> 0 | E31: =SUM(E6:E30) -> 0 | F31: =SUM(F6:F30) -> 0 | G31: =SUM(G6:G30) -> 0 | H31: =SUM(H6:H30) -> 0 | I31: =SUM(I6:I30) -> 0 | J31: =SUM(J6:J30) -> 0 | ... S31: =SUM(S6:S30) -> 0
A32: عدد الطلاب | C32: ='tbl1'!C7 -> 24 | D32: ='tbl1'!D7 -> 24 | E32: ='tbl1'!E7 -> 24 | F32: ='tbl1'!F7 -> 24 | G32: ='tbl1'!G7 -> 24 | H32: ='tbl1'!H7 -> 24 | I32: ='tbl1'!I7 -> 24 | J32: ='tbl1'!J7 -> 24 | K32: ='tbl1'!#REF! -> #REF! | L32: ='tbl1'!#REF! -> #REF! | M32: ='tbl1'!#REF! -> #REF! | N32: ='tbl1'!#REF! -> #REF! | O32: ='tbl1'!#REF! -> #REF! | P32: ='tbl1'!#REF! -> #REF! | Q32: ='tbl1'!#REF! -> #REF! | R32: ='tbl1'!#REF! -> #REF! | S32: ='tbl1'!C7 -> 24
A33: عدد الطلاب الراسبين | C33: =C32-C31 -> 24 | D33: =D32-D31 -> 24 | E33: =E32-E31 -> 24 | F33: =F32-F31 -> 24 | G33: =G32-G31 -> 24 | H33: =H32-H31 -> 24 | I33: =I32-I31 -> 24 | J33: =J32-J31 -> 24 | ... S33: =S32-S31 -> 24
A36: السؤال | C36: ='tbl1'!C8 -> س1فهم المقروء | D36: ='tbl1'!D8 -> س2 البلاغة | E36: ='tbl1'!E8 -> س3 (أ)الصرف | F36: ='tbl1'!F8 -> المنصوبات(ب) | G36: ='tbl1'!G8 -> (ج) المجرورات | H36: ='tbl1'!H8 -> (د)علامات الإعراب | I36: ='tbl1'!I8 -> س4 الإملاء | J36: ='tbl1'!J8 -> س5 التعبير | K36: ='tbl1'!#REF! -> #REF! | L36: ='tbl1'!#REF! -> #REF! | M36: ='tbl1'!#REF! -> #REF! | N36: ='tbl1'!#REF! -> #REF! | O36: ='tbl1'!#REF! -> #REF! | P36: ='tbl1'!#REF! -> #REF! | Q36: ='tbl1'!#REF! -> #REF! | R36: ='tbl1'!#REF! -> #REF! | S36: ='tbl1'!K8 -> المجموع
A37: للمعادلة | C37: =C39*0.8-C38 -> 3 | D37: =D39*0.8-D38 -> 1.5 | E37: =E39*0.8-E38 -> 2.4 | F37: =F39*0.8-F38 -> 2.1 | G37: =G39*0.8-G38 -> 0.9 | H37: =H39*0.8-H38 -> 0.6 | I37: =I39*0.8-I38 -> 1.5 | J37: =J39*0.8-J38 -> 3 | ... S37: =S39*0.8-S38 -> 15
A38: العلامة الصغرى | C38: =C39/2 -> 5 | D38: =D39/2 -> 2.5 | E38: =E39/2 -> 4 | F38: =F39/2 -> 3.5 | G38: =G39/2 -> 1.5 | H38: =H39/2 -> 1 | I38: =I39/2 -> 2.5 | J38: =J39/2 -> 5 | ... S38: =S39/2 -> 25
A39: العلامة العظمى | C39: =C5 -> 10 | D39: =D5 -> 5 | E39: =E5 -> 8 | F39: =F5 -> 7 | G39: =G5 -> 3 | H39: =H5 -> 2 | I39: =I5 -> 5 | J39: =J5 -> 10 | ... S39: =S5 -> 50
B40: 1 | C40: =IF('tbl1'!C10>=('tbl2'!C37+'tbl2'!C38),1,0) -> 0 | D40: =IF('tbl1'!D10>=('tbl2'!D37+'tbl2'!D38),1,0) -> 0 | E40: =IF('tbl1'!E10>=('tbl2'!E37+'tbl2'!E38),1,0) -> 0 | F40: =IF('tbl1'!F10>=('tbl2'!F37+'tbl2'!F38),1,0) -> 0 | G40: =IF('tbl1'!G10>=('tbl2'!G37+'tbl2'!G38),1,0) -> 0 | H40: =IF('tbl1'!H10>=('tbl2'!H37+'tbl2'!H38),1,0) -> 0 | I40: =IF('tbl1'!I10>=('tbl2'!I37+'tbl2'!I38),1,0) -> 0 | J40: =IF('tbl1'!J10>=('tbl2'!J37+'tbl2'!J38),1,0) -> 0 | K40: =IF('tbl1'!#REF!>=('tbl2'!K37+'tbl2'!K38),1,0) -> #REF! | L40: =IF('tbl1'!#REF!>=('tbl2'!L37+'tbl2'!L38),1,0) -> #REF! | M40: =IF('tbl1'!#REF!>=('tbl2'!M37+'tbl2'!M38),1,0) -> #REF! | N40: =IF('tbl1'!#REF!>=('tbl2'!N37+'tbl2'!N38),1,0) -> #REF! | O40: =IF('tbl1'!#REF!>=('tbl2'!O37+'tbl2'!O38),1,0) -> #REF! | P40: =IF('tbl1'!#REF!>=('tbl2'!P37+'tbl2'!P38),1,0) -> #REF! | Q40: =IF('tbl1'!#REF!>=('tbl2'!Q37+'tbl2'!Q38),1,0) -> #REF! | R40: =IF('tbl1'!#REF!>=('tbl2'!R37+'tbl2'!R38),1,0) -> #REF! | S40: =IF('tbl1'!K10>=('tbl2'!S37+'tbl2'!S38),1,0) -> 0
B41: =B40+1 -> 2 | C41: =IF('tbl1'!C11>=C37+C38,1,0) -> 0 | D41: =IF('tbl1'!D11>=D37+D38,1,0) -> 0 | E41: =IF('tbl1'!E11>=E37+E38,1,0) -> 0 | F41: =IF('tbl1'!F11>=F37+F38,1,0) -> 0 | G41: =IF('tbl1'!G11>=G37+G38,1,0) -> 0 | H41: =IF('tbl1'!H11>=H37+H38,1,0) -> 0 | I41: =IF('tbl1'!I11>=I37+I38,1,0) -> 0 | J41: =IF('tbl1'!J11>=J37+J38,1,0) -> 0 | K41: =IF('tbl1'!#REF!>=K37+K38,1,0) -> #REF! | L41: =IF('tbl1'!#REF!>=L37+L38,1,0) -> #REF! | M41: =IF('tbl1'!#REF!>=M37+M38,1,0) -> #REF! | N41: =IF('tbl1'!#REF!>=N37+N38,1,0) -> #REF! | O41: =IF('tbl1'!#REF!>=O37+O38,1,0) -> #REF! | P41: =IF('tbl1'!#REF!>=P37+P38,1,0) -> #REF! | Q41: =IF('tbl1'!#REF!>=Q37+Q38,1,0) -> #REF! | R41: =IF('tbl1'!#REF!>=R37+R38,1,0) -> #REF! | S41: =IF('tbl1'!K11>=S37+S38,1,0) -> 0
B42: =B41+1 -> 3 | C42: =IF('tbl1'!C12>='tbl2'!C37+'tbl2'!C38,1,0) -> 0 | D42: =IF('tbl1'!D12>='tbl2'!D37+'tbl2'!D38,1,0) -> 0 | E42: =IF('tbl1'!E12>='tbl2'!E37+'tbl2'!E38,1,0) -> 0 | F42: =IF('tbl1'!F12>='tbl2'!F37+'tbl2'!F38,1,0) -> 0 | G42: =IF('tbl1'!G12>='tbl2'!G37+'tbl2'!G38,1,0) -> 0 | H42: =IF('tbl1'!H12>='tbl2'!H37+'tbl2'!H38,1,0) -> 0 | I42: =IF('tbl1'!I12>='tbl2'!I37+'tbl2'!I38,1,0) -> 0 | J42: =IF('tbl1'!J12>='tbl2'!J37+'tbl2'!J38,1,0) -> 0 | K42: =IF('tbl1'!#REF!>='tbl2'!K37+'tbl2'!K38,1,0) -> #REF! | L42: =IF('tbl1'!#REF!>='tbl2'!L37+'tbl2'!L38,1,0) -> #REF! | M42: =IF('tbl1'!#REF!>='tbl2'!M37+'tbl2'!M38,1,0) -> #REF! | N42: =IF('tbl1'!#REF!>='tbl2'!N37+'tbl2'!N38,1,0) -> #REF! | O42: =IF('tbl1'!#REF!>='tbl2'!O37+'tbl2'!O38,1,0) -> #REF! | P42: =IF('tbl1'!#REF!>='tbl2'!P37+'tbl2'!P38,1,0) -> #REF! | Q42: =IF('tbl1'!#REF!>='tbl2'!Q37+'tbl2'!Q38,1,0) -> #REF! | R42: =IF('tbl1'!#REF!>='tbl2'!R37+'tbl2'!R38,1,0) -> #REF! | S42: =IF('tbl1'!K12>='tbl2'!S37+'tbl2'!S38,1,0) -> 0
B43: =B42+1 -> 4 | C43: =IF('tbl1'!C13>='tbl2'!C37+'tbl2'!C38,1,0) -> 0 | D43: =IF('tbl1'!D13>='tbl2'!D37+'tbl2'!D38,1,0) -> 0 | E43: =IF('tbl1'!E13>='tbl2'!E37+'tbl2'!E38,1,0) -> 0 | F43: =IF('tbl1'!F13>='tbl2'!F37+'tbl2'!F38,1,0) -> 0 | G43: =IF('tbl1'!G13>='tbl2'!G37+'tbl2'!G38,1,0) -> 0 | H43: =IF('tbl1'!H13>='tbl2'!H37+'tbl2'!H38,1,0) -> 0 | I43: =IF('tbl1'!I13>='tbl2'!I37+'tbl2'!I38,1,0) -> 0 | J43: =IF('tbl1'!J13>='tbl2'!J37+'tbl2'!J38,1,0) -> 0 | K43: =IF('tbl1'!#REF!>='tbl2'!K37+'tbl2'!K38,1,0) -> #REF! | L43: =IF('tbl1'!#REF!>='tbl2'!L37+'tbl2'!L38,1,0) -> #REF! | M43: =IF('tbl1'!#REF!>='tbl2'!M37+'tbl2'!M38,1,0) -> #REF! | N43: =IF('tbl1'!#REF!>='tbl2'!N37+'tbl2'!N38,1,0) -> #REF! | O43: =IF('tbl1'!#REF!>='tbl2'!O37+'tbl2'!O38,1,0) -> #REF! | P43: =IF('tbl1'!#REF!>='tbl2'!P37+'tbl2'!P38,1,0) -> #REF! | Q43: =IF('tbl1'!#REF!>='tbl2'!Q37+'tbl2'!Q38,1,0) -> #REF! | R43: =IF('tbl1'!#REF!>='tbl2'!R37+'tbl2'!R38,1,0) -> #REF! | S43: =IF('tbl1'!K13>='tbl2'!S37+'tbl2'!S38,1,0) -> 0
B44: =B43+1 -> 5 | C44: =IF('tbl1'!C14>='tbl2'!C37+'tbl2'!C38,1,0) -> 0 | D44: =IF('tbl1'!D14>='tbl2'!D37+'tbl2'!D38,1,0) -> 0 | E44: =IF('tbl1'!E14>='tbl2'!E37+'tbl2'!E38,1,0) -> 0 | F44: =IF('tbl1'!F14>='tbl2'!F37+'tbl2'!F38,1,0) -> 0 | G44: =IF('tbl1'!G14>='tbl2'!G37+'tbl2'!G38,1,0) -> 0 | H44: =IF('tbl1'!H14>='tbl2'!H37+'tbl2'!H38,1,0) -> 0 | I44: =IF('tbl1'!I14>='tbl2'!I37+'tbl2'!I38,1,0) -> 0 | J44: =IF('tbl1'!J14>='tbl2'!J37+'tbl2'!J38,1,0) -> 0 | K44: =IF('tbl1'!#REF!>='tbl2'!K37+'tbl2'!K38,1,0) -> #REF! | L44: =IF('tbl1'!#REF!>='tbl2'!L37+'tbl2'!L38,1,0) -> #REF! | M44: =IF('tbl1'!#REF!>='tbl2'!M37+'tbl2'!M38,1,0) -> #REF! | N44: =IF('tbl1'!#REF!>='tbl2'!N37+'tbl2'!N38,1,0) -> #REF! | O44: =IF('tbl1'!#REF!>='tbl2'!O37+'tbl2'!O38,1,0) -> #REF! | P44: =IF('tbl1'!#REF!>='tbl2'!P37+'tbl2'!P38,1,0) -> #REF! | Q44: =IF('tbl1'!#REF!>='tbl2'!Q37+'tbl2'!Q38,1,0) -> #REF! | R44: =IF('tbl1'!#REF!>='tbl2'!R37+'tbl2'!R38,1,0) -> #REF! | S44: =IF('tbl1'!K14>='tbl2'!S37+'tbl2'!S38,1,0) -> 0
...
